BEGIN:VCALENDAR
VERSION:2.0
PRODID:-//Squarespace Inc/Squarespace 6//v6//EN
BEGIN:VEVENT
UID:5fbafd8b9876b8736cdd568e@squarespace.com
DTSTAMP:20201208T094403Z
DTSTART:20210128T010000Z
DTEND:20210128T033000Z
SUMMARY:Wairakei Golf and Sanctuary Tour
END:VEVENT
END:VCALENDAR
